BEGIN:VCALENDAR
VERSION:2.0
PRODID:Events Booking
BEGIN:VEVENT
UID:69e8bd318c3c9
SUMMARY:Ustvarjalnica za otroke\, ob prazniku knjige
DESCRIPTION:KDAJ? četrtek\, 23. april 2026 ob 16.30
 KJE? Valvasorjeva kn
 jižnica Krško
LOCATION:Cesta krških žrtev 26\, 8270\, Slovenia
DTSTART:20260423T143000Z
DTSTAMP:20260422T081915Z
ORGANIZER:MAILTO:informator@knjiznica-krsko.si
GEO:45.965546;15.485527
X-APPLE-STRUCTURED-LOCATION;VALUE=URI;X-ADDRESS=Cesta krških žrtev 26\, 8
 270\, Slovenia;X-APPLE-RADIUS=72;X-TITLE=Valvasorjeva knjižnica Krško:45
 .965546;15.485527
END:VEVENT
END:VCALENDAR