BEGIN:VCALENDAR
VERSION:2.0
PRODID:Events Booking
BEGIN:VEVENT
UID:69e625dcc8e3b
SUMMARY:Praznujmo skupaj dan knjige!
DESCRIPTION:V tem tednu tudi v Valvasorjevi knjižnici Krško obeležujemo 
 svetovni dan knjige in avtorskih pravic\, 23. april.
  
 BREZPLAČNI VP
 IS ZA NOVE ČLANE
 ob prazniku knjige med 20. in 25. aprilom v vseh enota
 h Valvasorjeve knjižnice.
LOCATION:Cesta krških žrtev 26\, 8270\, Slovenia
DTSTART:20260419T220000Z
DTEND:20260424T220000Z
DTSTAMP:20260420T055351Z
ORGANIZER:MAILTO:informator@knjiznica-krsko.si
GEO:45.965546;15.485527
X-APPLE-STRUCTURED-LOCATION;VALUE=URI;X-ADDRESS=Cesta krških žrtev 26\, 8
 270\, Slovenia;X-APPLE-RADIUS=72;X-TITLE=Valvasorjeva knjižnica Krško:45
 .965546;15.485527
END:VEVENT
END:VCALENDAR