BEGIN:VCALENDAR
VERSION:2.0
PRODID:Events Booking
BEGIN:VEVENT
UID:69ebfe79466ff
SUMMARY:Kdaj pozabljivost postane bolezen? Predavanje Vide Drame Orožim\, 
 dr. med.
DESCRIPTION:V vsakdanjem življenju se vsi kdaj znajdemo v situaciji\, ko n
 ečesa ne moremo priklicati iz spomina – pozabimo ime znanca\, kam smo o
 dložili ključe ali zakaj smo stopili v sobo.
 A kdaj takšna pozabljivo
 st preseže običajno in postane znak bolezni?
 Na predavanju bomo sprego
 vorili o razlikah med normalnim staranjem in znaki demence\, predvsem Alzh
 eimerjeve bolezni. Predavanje je namenjeno vsem\, ki želijo bolje razumet
 i delovanje spomina in kako prepoznati\, kdaj je čas za strokovno pomoč.
 
  
 Vida Drame Orožim\, dr. med.\, spec. psih. in nevr. je nekdanja s
 trokovna vodja Pro Bono ambulante s posvetovalnico za ljudi brez zdravstve
 nega zavarovanja\, častna članica Zdravniške zbornice Slovenije ter čl
 anica Strokovnega sveta Spominčice – Alzheimer Slovenija. Tekom večlet
 nega sodelovanja s Spominčico - Alzheimer Slovenija je s strokovnim znanj
 em\, predavanji\, in osebnim svetovanjem postala močan glas oseb z demenc
 o in njihovih svojcev.
  
 Predavanje je v okviru delovanja Demenci pri
 jazne točke v kostanjeviški knjižnici.
LOCATION:Ljubljanska cesta 7\, 8311 Kostanjevica na Krki\, Slovenija
DTSTART:20260506T150000Z
DTSTAMP:20260424T090503Z
ORGANIZER:MAILTO:informator@knjiznica-krsko.si
GEO:45.843388;15.421244
X-APPLE-STRUCTURED-LOCATION;VALUE=URI;X-ADDRESS=Ljubljanska cesta 7\, 8311 
 Kostanjevica na Krki\, Slovenija;X-APPLE-RADIUS=72;X-TITLE=Krajevna knjiž
 nica Kostanjevica na Krki:45.843388;15.421244
END:VEVENT
END:VCALENDAR